BEGIN:VCALENDAR
PRODID:-//Ben Fortuna//iCal4j 1.0//EN
VERSION:2.0
CALSCALE:GREGORIAN
BEGIN:VTIMEZONE
TZID:Europe/Berlin
LAST-MODIFIED:20201010T011803Z
TZURL:http://tzurl.org/zoneinfo/Europe/Berlin
X-LIC-LOCATION:Europe/Berlin
X-PROLEPTIC-TZNAME:LMT
BEGIN:STANDARD
TZNAME:CET
TZOFFSETFROM:+005328
TZOFFSETTO:+0100
DTSTART:18930401T000000
END:STANDARD
BEGIN:DAYLIGHT
TZNAME:CEST
TZOFFSETFROM:+0100
TZOFFSETTO:+0200
DTSTART:19160430T230000
RDATE:19400401T020000
RDATE:19430329T020000
RDATE:19460414T020000
RDATE:19470406T030000
RDATE:19480418T020000
RDATE:19490410T020000
RDATE:19800406T020000
END:DAYLIGHT
BEGIN:STANDARD
TZNAME:CET
TZOFFSETFROM:+0200
TZOFFSETTO:+0100
DTSTART:19161001T010000
RDATE:19421102T030000
RDATE:19431004T030000
RDATE:19441002T030000
RDATE:19451118T030000
RDATE:19461007T030000
END:STANDARD
BEGIN:DAYLIGHT
TZNAME:CEST
TZOFFSETFROM:+0100
TZOFFSETTO:+0200
DTSTART:19170416T020000
RRULE:FREQ=YEARLY;UNTIL=19180415T010000Z;BYMONTH=4;BYDAY=3MO
END:DAYLIGHT
BEGIN:STANDARD
TZNAME:CET
TZOFFSETFROM:+0200
TZOFFSETTO:+0100
DTSTART:19170917T030000
RRULE:FREQ=YEARLY;UNTIL=19180916T010000Z;BYMONTH=9;BYDAY=3MO
END:STANDARD
BEGIN:DAYLIGHT
TZNAME:CEST
TZOFFSETFROM:+0100
TZOFFSETTO:+0200
DTSTART:19440403T020000
RRULE:FREQ=YEARLY;UNTIL=19450402T010000Z;BYMONTH=4;BYDAY=1MO
END:DAYLIGHT
BEGIN:DAYLIGHT
TZNAME:CEMT
TZOFFSETFROM:+0200
TZOFFSETTO:+0300
DTSTART:19450524T020000
RDATE:19470511T030000
END:DAYLIGHT
BEGIN:DAYLIGHT
TZNAME:CEST
TZOFFSETFROM:+0300
TZOFFSETTO:+0200
DTSTART:19450924T030000
RDATE:19470629T030000
END:DAYLIGHT
BEGIN:STANDARD
TZNAME:CET
TZOFFSETFROM:+0100
TZOFFSETTO:+0100
DTSTART:19460101T000000
RDATE:19800101T000000
END:STANDARD
BEGIN:STANDARD
TZNAME:CET
TZOFFSETFROM:+0200
TZOFFSETTO:+0100
DTSTART:19471005T030000
RRULE:FREQ=YEARLY;UNTIL=19491002T010000Z;BYMONTH=10;BYDAY=1SU
END:STANDARD
BEGIN:STANDARD
TZNAME:CET
TZOFFSETFROM:+0200
TZOFFSETTO:+0100
DTSTART:19800928T030000
RRULE:FREQ=YEARLY;UNTIL=19950924T010000Z;BYMONTH=9;BYDAY=-1SU
END:STANDARD
BEGIN:DAYLIGHT
TZNAME:CEST
TZOFFSETFROM:+0100
TZOFFSETTO:+0200
DTSTART:19810329T020000
RRULE:FREQ=YEARLY;BYMONTH=3;BYDAY=-1SU
END:DAYLIGHT
BEGIN:STANDARD
TZNAME:CET
TZOFFSETFROM:+0200
TZOFFSETTO:+0100
DTSTART:19961027T030000
RRULE:FREQ=YEARLY;BYMONTH=10;BYDAY=-1SU
END:STANDARD
END:VTIMEZONE
BEGIN:VEVENT
DTSTAMP:20260421T163342Z
DTSTART;TZID=Europe/Berlin:20251121T150000
DTEND;TZID=Europe/Berlin:20251121T170000
SUMMARY:Erzählcafé \"Wisst Ihr noch...?\" Thema: Nachtkrapp & Co. – Aberg
 laube und Mythen
CREATED:20251105T083952Z
LAST-MODIFIED:20251105T084925Z
DESCRIPTION:Jeder hat es schon einmal als Kind gehört: Wenn es dunkel wir
 d\, kommt der Nachtkrapp\, wer unter der Decke liest\, verdirbt sich die
  Augen\, wenn der Teller leergegessen ist\, gibt es gutes Wetter und ver
 schluckte Kaugummis verkleben den Magen. Welcher Aberglaube hat uns gepr
 ägt\, welche Mythen gab es\, was ist lebhaft in Erinnerung geblieben? Da
 rüber wollen wir ins Erzählen kommen und uns austauschen. Das Erzählcafé
  ist für alle geöffnet. Es ist keine Anmeldung erforderlich\, einfach vo
 rabeikommen. Gerne eine Spende für Kaffee und Gebäck.
LOCATION:Hildegard-Meyer-Haus
X-LOCATION-NAME:Hildegard-Meyer-Haus
X-STREET-ADDRESS:Bahnhofsplatz 15
X-POSTAL-CODE:74189
X-LOCALITY:Weinsberg
X-ORGANIZER-NAME:Stadtseniorenrat in Koop. Seniorenarbeit Stadt Weinsberg
 
X-IONAS-CATEGORY:Senioren
CATEGORIES:Senioren
ATTACH;FMTTYPE=image/jpeg:https://www.weinsberg.de/kalender/2025/november
 -2025/2025-11-21-erzaehlcafe-wisst-ihr-noch...-thema-nachtkrapp-co.-aber
 glaube-und-mythen/erzaehlcafe-stadtseniorenrat-blanco.jpg?cid=1zc7.gan4
UID:9840aa81-a1c6-4732-9f1c-364e19baa4b4
END:VEVENT
END:VCALENDAR
