BEGIN:VCALENDAR
PRODID:-//Ben Fortuna//iCal4j 1.0//EN
VERSION:2.0
CALSCALE:GREGORIAN
BEGIN:VTIMEZONE
TZID:Europe/Berlin
LAST-MODIFIED:20201010T011803Z
TZURL:http://tzurl.org/zoneinfo/Europe/Berlin
X-LIC-LOCATION:Europe/Berlin
X-PROLEPTIC-TZNAME:LMT
BEGIN:STANDARD
TZNAME:CET
TZOFFSETFROM:+005328
TZOFFSETTO:+0100
DTSTART:18930401T000000
END:STANDARD
BEGIN:DAYLIGHT
TZNAME:CEST
TZOFFSETFROM:+0100
TZOFFSETTO:+0200
DTSTART:19160430T230000
RDATE:19400401T020000
RDATE:19430329T020000
RDATE:19460414T020000
RDATE:19470406T030000
RDATE:19480418T020000
RDATE:19490410T020000
RDATE:19800406T020000
END:DAYLIGHT
BEGIN:STANDARD
TZNAME:CET
TZOFFSETFROM:+0200
TZOFFSETTO:+0100
DTSTART:19161001T010000
RDATE:19421102T030000
RDATE:19431004T030000
RDATE:19441002T030000
RDATE:19451118T030000
RDATE:19461007T030000
END:STANDARD
BEGIN:DAYLIGHT
TZNAME:CEST
TZOFFSETFROM:+0100
TZOFFSETTO:+0200
DTSTART:19170416T020000
RRULE:FREQ=YEARLY;UNTIL=19180415T010000Z;BYMONTH=4;BYDAY=3MO
END:DAYLIGHT
BEGIN:STANDARD
TZNAME:CET
TZOFFSETFROM:+0200
TZOFFSETTO:+0100
DTSTART:19170917T030000
RRULE:FREQ=YEARLY;UNTIL=19180916T010000Z;BYMONTH=9;BYDAY=3MO
END:STANDARD
BEGIN:DAYLIGHT
TZNAME:CEST
TZOFFSETFROM:+0100
TZOFFSETTO:+0200
DTSTART:19440403T020000
RRULE:FREQ=YEARLY;UNTIL=19450402T010000Z;BYMONTH=4;BYDAY=1MO
END:DAYLIGHT
BEGIN:DAYLIGHT
TZNAME:CEMT
TZOFFSETFROM:+0200
TZOFFSETTO:+0300
DTSTART:19450524T020000
RDATE:19470511T030000
END:DAYLIGHT
BEGIN:DAYLIGHT
TZNAME:CEST
TZOFFSETFROM:+0300
TZOFFSETTO:+0200
DTSTART:19450924T030000
RDATE:19470629T030000
END:DAYLIGHT
BEGIN:STANDARD
TZNAME:CET
TZOFFSETFROM:+0100
TZOFFSETTO:+0100
DTSTART:19460101T000000
RDATE:19800101T000000
END:STANDARD
BEGIN:STANDARD
TZNAME:CET
TZOFFSETFROM:+0200
TZOFFSETTO:+0100
DTSTART:19471005T030000
RRULE:FREQ=YEARLY;UNTIL=19491002T010000Z;BYMONTH=10;BYDAY=1SU
END:STANDARD
BEGIN:STANDARD
TZNAME:CET
TZOFFSETFROM:+0200
TZOFFSETTO:+0100
DTSTART:19800928T030000
RRULE:FREQ=YEARLY;UNTIL=19950924T010000Z;BYMONTH=9;BYDAY=-1SU
END:STANDARD
BEGIN:DAYLIGHT
TZNAME:CEST
TZOFFSETFROM:+0100
TZOFFSETTO:+0200
DTSTART:19810329T020000
RRULE:FREQ=YEARLY;BYMONTH=3;BYDAY=-1SU
END:DAYLIGHT
BEGIN:STANDARD
TZNAME:CET
TZOFFSETFROM:+0200
TZOFFSETTO:+0100
DTSTART:19961027T030000
RRULE:FREQ=YEARLY;BYMONTH=10;BYDAY=-1SU
END:STANDARD
END:VTIMEZONE
BEGIN:VEVENT
DTSTAMP:20260423T203248Z
DTSTART;TZID=Europe/Berlin:20260301T170000
DTEND;TZID=Europe/Berlin:20260301T190000
SUMMARY:Kabarett aus dem Ländle: \"Es isch wies isch\"  Marianne Schätzle
 
CREATED:20250811T071835Z
LAST-MODIFIED:20251215T101219Z
DESCRIPTION:Sie ist der neue Geheimtipp wenn‘s um Humor aus dem Ländle ge
 ht. Man kennt sie von der Fasnacht im SWR Fernsehen und vom Bayrischen F
 ernsehen. Erleben sie einen kurzweiligen Abend\, an dem sie herzhaft lac
 hen können. In ihrem neuen Programm: „ES ISCH WIES ISCH“ geht es um bode
 nständigen Humor\, ums älter werden\, um den modernen Zeitgeist und den 
 alltäglichen Wahnsinn. Sie geht z.B. der Fragen nach\, ob Männer\, die g
 rillen können\, denn wirklich kochen können. Und sie fragt sich\, was ma
 n nur machen soll\, wenn niemand mehr einen Handwerksberuf erlernt? Wen 
 bestellt man\, wenn der Wasserhahn tropft? Den Wasserbachelor\, oder gar
  den Wasseringenieur? Was soll man nur werden ohne Abitur? Handwerker od
 er Politiker? Sie rückt die Dinge zurecht. Es lebe der gesunde Menschenv
 erstand. Mitten aus dem Leben und von außen betrachtet. Marianne Schätzl
 e wurde mit dem Metzinger Kabarettpreis und der Schnellertshamer Heugabe
 l ausgezeichnet. Sie trifft den Nerv des Publikums. Bekannt wurde die Ka
 barettistin Marianne Schätzle durch ihre legendäre Merkelparodie\, die a
 uch bei verschiedenen Fernsehsendern zu sehen waren. Kabarett auf hohem 
 Niveau und darunter. \n\nEintritt: 18\,00 Euro\n\nKartenvorverkauf unter
 : www.marianne-schätzle.de\n\noder über Reservixlink: https://www.reserv
 ix.de/tickets-es-isch-wies-isch-comedy-ausm-laendle-in-weinsberg-baukelt
 er-weinsberg-am-1-3-2026/e2491707?utm_medium=referral&utm_source=dynamic
 &utm_campaign=dynamic-prom-lb&utm_content=Marianne%20Schätzle%20(13565)
LOCATION:Baukelter\, Michael-Beheim-Saal
X-LOCATION-NAME:Baukelter\, Michael-Beheim-Saal
X-STREET-ADDRESS:Seufferheldstraße 14
X-POSTAL-CODE:74189
X-LOCALITY:Weinsberg
X-ORGANIZER-NAME:Kooperation Marianne Schätzle\, Stadt Weinsberg
X-IONAS-CATEGORY:Kabarett
CATEGORIES:Kabarett,Startseite,KULTUR.PUR
ATTACH;FMTTYPE=image/png:https://www.weinsberg.de/kalender/2026/maerz-202
 6/2026-03-01-kabarett-aus-dem-laendle-es-isch-wies-isch-marianne-schaetz
 le/marianne-schaetzle-kabarett.png?cid=1yev.fy27
UID:07f40cf2-e338-43ff-979a-21da7aa9c4db
END:VEVENT
END:VCALENDAR
